BEGIN:VCALENDAR
VERSION:2.0
METHOD:PUBLISH
X-WR-CALNAME;VALUE=TEXT:
PRODID:-//Drupal iCal API//EN
BEGIN:VEVENT
2020-11-20 01:00:00 AEDT
2020-11-20 05:00:00 AEDT
DTSTART:20201120T010000Z
DTEND:20201120T050000Z
SUMMARY:History Honours Symposium 2020
UID:8836063b-b90f-46f7-a618-fb8a85d1df46
URL:https://history.cass.anu.edu.au/events/history-honours-symposium-2020
END:VEVENT
END:VCALENDAR
